BEGIN:VCALENDAR
VERSION:2.0
PRODID:-//St James Missionary Baptist Church - ECPv6.15.18//NONSGML v1.0//EN
CALSCALE:GREGORIAN
METHOD:PUBLISH
X-ORIGINAL-URL:https://stjamesmbcphilly.com
X-WR-CALDESC:Events for St James Missionary Baptist Church
REFRESH-INTERVAL;VALUE=DURATION:PT1H
X-Robots-Tag:noindex
X-PUBLISHED-TTL:PT1H
BEGIN:VTIMEZONE
TZID:America/New_York
BEGIN:DAYLIGHT
TZOFFSETFROM:-0500
TZOFFSETTO:-0400
TZNAME:EDT
DTSTART:20240310T070000
END:DAYLIGHT
BEGIN:STANDARD
TZOFFSETFROM:-0400
TZOFFSETTO:-0500
TZNAME:EST
DTSTART:20241103T060000
END:STANDARD
BEGIN:DAYLIGHT
TZOFFSETFROM:-0500
TZOFFSETTO:-0400
TZNAME:EDT
DTSTART:20250309T070000
END:DAYLIGHT
BEGIN:STANDARD
TZOFFSETFROM:-0400
TZOFFSETTO:-0500
TZNAME:EST
DTSTART:20251102T060000
END:STANDARD
BEGIN:DAYLIGHT
TZOFFSETFROM:-0500
TZOFFSETTO:-0400
TZNAME:EDT
DTSTART:20260308T070000
END:DAYLIGHT
BEGIN:STANDARD
TZOFFSETFROM:-0400
TZOFFSETTO:-0500
TZNAME:EST
DTSTART:20261101T060000
END:STANDARD
END:VTIMEZONE
BEGIN:VEVENT
DTSTART;VALUE=DATE:20250113
DTEND;VALUE=DATE:20250117
DTSTAMP:20260419T194316
CREATED:20241015T140420Z
LAST-MODIFIED:20241030T182112Z
UID:283-1736726400-1737071999@stjamesmbcphilly.com
SUMMARY:NBCUSA\, INC Mid-Winter Board Meeting
DESCRIPTION:The National Baptist Convention USA invites you to the 2025 Mid-Winter Board Meeting from January 13-16\, 2025\, in Birmingham\, Alabama. This pivotal event will bring together pastors\, ministers\, and leaders nationwide to engage with our new President\, Dr. Boise Kimber\, as he shares his vision for the future of the NBC. Be part of a historic moment as we set the stage for a revitalized mission and collaborative growth within our Convention.
URL:https://stjamesmbcphilly.com/event/nbcusa/
CATEGORIES:conferences,Holy
ATTACH;FMTTYPE=image/png:https://stjamesmbcphilly.com/wp-content/uploads/2024/10/dr-boise-kimber-15.png
END:VEVENT
BEGIN:VEVENT
DTSTART;TZID=America/New_York:20250228T080000
DTEND;TZID=America/New_York:20250301T220000
DTSTAMP:20260419T194316
CREATED:20240910T085400Z
LAST-MODIFIED:20241030T070047Z
UID:3195-1740729600-1740866400@stjamesmbcphilly.com
SUMMARY:Gather25
DESCRIPTION:Gather25 is an unprecedented 25-hour global broadcast event telling the story and mission of the global Church\, by the global Church. \nFor 25 hours\, Gather25 will be an opportunity for the 2.5 billion believers across the world to gather in prayer\, worship\, and repentance\, so that we can go out powerfully and collaboratively to reach the world.
URL:https://stjamesmbcphilly.com/event/gather25/
CATEGORIES:Holy
ATTACH;FMTTYPE=image/jpeg:https://stjamesmbcphilly.com/wp-content/uploads/2024/10/gather25_event.jpg
END:VEVENT
END:VCALENDAR